Name | Last modified | Size | Description | |
---|---|---|---|---|
Parent Directory | - | |||
buildbin-summary.dcf | 20-Oct-2023 22:38 | 651 | ||
buildbin-out.txt | 20-Oct-2023 22:38 | 1.3K | ||
checksrc-summary.dcf | 20-Oct-2023 22:38 | 524 | ||
checksrc-out.txt | 20-Oct-2023 22:38 | 3.6K | ||
install-summary.dcf | 20-Oct-2023 22:38 | 309 | ||
install-out.txt | 20-Oct-2023 22:38 | 1.0K | ||
buildsrc-summary.dcf | 20-Oct-2023 22:38 | 488 | ||
buildsrc-out.txt | 20-Oct-2023 22:38 | 896 | ||