Name | Last modified | Size | Description | |
---|---|---|---|---|
Parent Directory | - | |||
checksrc-summary.dcf | 20-Oct-2023 22:38 | 478 | ||
checksrc-out.txt | 20-Oct-2023 22:38 | 5.8K | ||
buildbin-summary.dcf | 20-Oct-2023 22:38 | 573 | ||
buildbin-out.txt | 20-Oct-2023 22:38 | 1.6K | ||
install-summary.dcf | 20-Oct-2023 22:38 | 283 | ||
install-out.txt | 20-Oct-2023 22:38 | 1.4K | ||
buildsrc-summary.dcf | 20-Oct-2023 22:38 | 448 | ||
buildsrc-out.txt | 20-Oct-2023 22:38 | 844 | ||