Name | Last modified | Size | Description | |
---|---|---|---|---|
Parent Directory | - | |||
install-summary.dcf | 20-Oct-2023 22:38 | 306 | ||
buildsrc-summary.dcf | 20-Oct-2023 22:38 | 483 | ||
checksrc-summary.dcf | 20-Oct-2023 22:38 | 518 | ||
buildbin-summary.dcf | 20-Oct-2023 22:38 | 642 | ||
buildsrc-out.txt | 20-Oct-2023 22:38 | 891 | ||
install-out.txt | 20-Oct-2023 22:38 | 1.0K | ||
buildbin-out.txt | 20-Oct-2023 22:38 | 1.3K | ||
checksrc-out.txt | 20-Oct-2023 22:38 | 4.6K | ||