Name | Last modified | Size | Description | |
---|---|---|---|---|
Parent Directory | - | |||
install-summary.dcf | 20-Oct-2023 22:38 | 274 | ||
install-out.txt | 20-Oct-2023 22:38 | 15K | ||
checksrc-summary.dcf | 20-Oct-2023 22:38 | 458 | ||
checksrc-out.txt | 20-Oct-2023 22:38 | 6.1K | ||
buildsrc-summary.dcf | 20-Oct-2023 22:38 | 434 | ||
buildsrc-out.txt | 20-Oct-2023 22:38 | 902 | ||
buildbin-summary.dcf | 20-Oct-2023 22:38 | 543 | ||
buildbin-out.txt | 20-Oct-2023 22:38 | 17K | ||