Index of /checkResults/3.17/bioc-mac-arm64-LATEST/STAN/raw-results/kjohnson2
Name
Last modified
Size
Description
Parent Directory
-
buildsrc-out.txt
20-Oct-2023 22:38
8.0K
buildsrc-summary.dcf
20-Oct-2023 22:38
337
install-out.txt
20-Oct-2023 22:38
7.8K
install-summary.dcf
20-Oct-2023 22:38
266