Name | Last modified | Size | Description | |
---|---|---|---|---|
Parent Directory | - | |||
buildbin-out.txt | 20-Oct-2023 22:38 | 16K | ||
buildbin-summary.dcf | 20-Oct-2023 22:38 | 533 | ||
buildsrc-out.txt | 20-Oct-2023 22:38 | 849 | ||
buildsrc-summary.dcf | 20-Oct-2023 22:38 | 429 | ||
checksrc-out.txt | 20-Oct-2023 22:38 | 3.7K | ||
checksrc-summary.dcf | 20-Oct-2023 22:38 | 445 | ||
install-out.txt | 20-Oct-2023 22:38 | 14K | ||
install-summary.dcf | 20-Oct-2023 22:38 | 271 | ||