Index of /checkResults/3.17/bioc-mac-arm64-LATEST/RMassBank/raw-results/kjohnson2
Name
Last modified
Size
Description
Parent Directory
-
buildsrc-out.txt
20-Oct-2023 22:38
903
install-out.txt
20-Oct-2023 22:38
702
buildsrc-summary.dcf
20-Oct-2023 22:38
346
install-summary.dcf
20-Oct-2023 22:38
275