Index of /checkResults/3.17/bioc-mac-arm64-LATEST/REMP/raw-results/kjohnson2
Name
Last modified
Size
Description
Parent Directory
-
install-summary.dcf
20-Oct-2023 22:38
264
install-out.txt
20-Oct-2023 22:38
1.0K
buildsrc-summary.dcf
20-Oct-2023 22:38
338
buildsrc-out.txt
20-Oct-2023 22:38
5.4K