Name | Last modified | Size | Description | |
---|---|---|---|---|
Parent Directory | - | |||
checksrc-out.txt | 17-Mar-2023 00:02 | 7.3K | ||
buildbin-out.txt | 17-Mar-2023 00:02 | 6.8K | ||
buildsrc-out.txt | 20-Oct-2023 22:38 | 2.8K | ||
install-out.txt | 20-Oct-2023 22:38 | 2.6K | ||
buildbin-summary.dcf | 17-Mar-2023 00:02 | 524 | ||
checksrc-summary.dcf | 17-Mar-2023 00:02 | 446 | ||
buildsrc-summary.dcf | 20-Oct-2023 22:38 | 341 | ||
install-summary.dcf | 20-Oct-2023 22:38 | 270 | ||