Name | Last modified | Size | Description | |
---|---|---|---|---|
Parent Directory | - | |||
buildbin-summary.dcf | 20-Oct-2023 22:38 | 512 | ||
buildbin-out.txt | 20-Oct-2023 22:38 | 6.1K | ||
checksrc-summary.dcf | 20-Oct-2023 22:38 | 438 | ||
checksrc-out.txt | 20-Oct-2023 22:38 | 11K | ||
buildsrc-summary.dcf | 20-Oct-2023 22:38 | 417 | ||
buildsrc-out.txt | 20-Oct-2023 22:38 | 771 | ||
install-summary.dcf | 20-Oct-2023 22:38 | 264 | ||
install-out.txt | 20-Oct-2023 22:38 | 4.3K | ||