Index of /checkResults/3.17/bioc-mac-arm64-LATEST/PDATK/raw-results/kjohnson2

[ICO]NameLast modifiedSizeDescription

[DIR]Parent Directory  -  
[TXT]buildbin-out.txt20-Oct-2023 22:38 1.1K 
[   ]buildbin-summary.dcf20-Oct-2023 22:38 515  
[TXT]buildsrc-out.txt20-Oct-2023 22:38 870  
[   ]buildsrc-summary.dcf20-Oct-2023 22:38 420  
[TXT]checksrc-out.txt20-Oct-2023 22:38 6.2K 
[   ]checksrc-summary.dcf20-Oct-2023 22:38 440  
[TXT]install-out.txt20-Oct-2023 22:38 1.0K 
[   ]install-summary.dcf20-Oct-2023 22:38 264