Name | Last modified | Size | Description | |
---|---|---|---|---|
Parent Directory | - | |||
checksrc-out.txt | 20-Oct-2023 22:38 | 4.6K | ||
buildbin-out.txt | 20-Oct-2023 22:38 | 1.1K | ||
install-out.txt | 20-Oct-2023 22:38 | 1.0K | ||
buildsrc-out.txt | 20-Oct-2023 22:38 | 816 | ||
buildbin-summary.dcf | 20-Oct-2023 22:38 | 530 | ||
checksrc-summary.dcf | 20-Oct-2023 22:38 | 444 | ||
buildsrc-summary.dcf | 20-Oct-2023 22:38 | 428 | ||
install-summary.dcf | 20-Oct-2023 22:38 | 269 | ||