Index of /checkResults/3.17/bioc-mac-arm64-LATEST/ODER/raw-results/kjohnson2
Name
Last modified
Size
Description
Parent Directory
-
install-out.txt
20-Oct-2023 22:38
1.2K
install-summary.dcf
20-Oct-2023 22:38
262
buildsrc-summary.dcf
20-Oct-2023 22:38
337
buildsrc-out.txt
20-Oct-2023 22:38
1.4K