Name | Last modified | Size | Description | |
---|---|---|---|---|
Parent Directory | - | |||
install-summary.dcf | 20-Oct-2023 22:38 | 271 | ||
install-out.txt | 20-Oct-2023 22:38 | 1.6K | ||
checksrc-summary.dcf | 20-Oct-2023 22:38 | 448 | ||
checksrc-out.txt | 20-Oct-2023 22:38 | 3.5K | ||
buildsrc-summary.dcf | 20-Oct-2023 22:38 | 431 | ||
buildsrc-out.txt | 20-Oct-2023 22:38 | 860 | ||
buildbin-summary.dcf | 20-Oct-2023 22:38 | 536 | ||
buildbin-out.txt | 20-Oct-2023 22:38 | 1.7K | ||