Index of /checkResults/3.17/bioc-mac-arm64-LATEST/MMAPPR2/raw-results/kjohnson2
Name
Last modified
Size
Description
Parent Directory
-
install-summary.dcf
20-Oct-2023 22:38
271
buildsrc-summary.dcf
20-Oct-2023 22:38
342
install-out.txt
20-Oct-2023 22:38
691
buildsrc-out.txt
20-Oct-2023 22:38
889