Name | Last modified | Size | Description | |
---|---|---|---|---|
Parent Directory | - | |||
buildsrc-summary.dcf | 20-Oct-2023 22:38 | 414 | ||
install-out.txt | 20-Oct-2023 22:38 | 1.0K | ||
install-summary.dcf | 20-Oct-2023 22:38 | 260 | ||
buildbin-out.txt | 20-Oct-2023 22:38 | 1.1K | ||
buildbin-summary.dcf | 20-Oct-2023 22:38 | 503 | ||
buildsrc-out.txt | 20-Oct-2023 22:38 | 1.1K | ||
checksrc-out.txt | 20-Oct-2023 22:38 | 3.6K | ||
checksrc-summary.dcf | 20-Oct-2023 22:38 | 426 | ||