Name | Last modified | Size | Description | |
---|---|---|---|---|
Parent Directory | - | |||
install-summary.dcf | 20-Oct-2023 22:38 | 271 | ||
buildsrc-summary.dcf | 20-Oct-2023 22:38 | 431 | ||
checksrc-summary.dcf | 20-Oct-2023 22:38 | 454 | ||
buildbin-summary.dcf | 20-Oct-2023 22:38 | 537 | ||
buildsrc-out.txt | 20-Oct-2023 22:38 | 883 | ||
install-out.txt | 20-Oct-2023 22:38 | 1.2K | ||
buildbin-out.txt | 20-Oct-2023 22:38 | 1.4K | ||
checksrc-out.txt | 20-Oct-2023 22:38 | 4.0K | ||