Index of /checkResults/3.17/bioc-mac-arm64-LATEST/HiCool/raw-results/kjohnson2
Name
Last modified
Size
Description
Parent Directory
-
buildsrc-out.txt
20-Oct-2023 22:38
2.1K
buildsrc-summary.dcf
20-Oct-2023 22:38
341
install-out.txt
20-Oct-2023 22:38
863
install-summary.dcf
20-Oct-2023 22:38
266