Name | Last modified | Size | Description | |
---|---|---|---|---|
Parent Directory | - | |||
buildsrc-out.txt | 20-Oct-2023 22:38 | 929 | ||
buildsrc-summary.dcf | 20-Oct-2023 22:38 | 443 | ||
install-out.txt | 20-Oct-2023 22:38 | 2.1K | ||
install-summary.dcf | 20-Oct-2023 22:38 | 279 | ||
buildbin-out.txt | 20-Oct-2023 22:38 | 4.1K | ||
buildbin-summary.dcf | 20-Oct-2023 22:38 | 560 | ||
checksrc-out.txt | 20-Oct-2023 22:38 | 12K | ||
checksrc-summary.dcf | 20-Oct-2023 22:38 | 464 | ||