Name | Last modified | Size | Description | |
---|---|---|---|---|
Parent Directory | - | |||
checksrc-out.txt | 20-Oct-2023 22:38 | 5.2K | ||
buildbin-out.txt | 20-Oct-2023 22:38 | 4.0K | ||
install-out.txt | 20-Oct-2023 22:38 | 1.8K | ||
buildsrc-out.txt | 20-Oct-2023 22:38 | 870 | ||
buildbin-summary.dcf | 20-Oct-2023 22:38 | 566 | ||
checksrc-summary.dcf | 20-Oct-2023 22:38 | 468 | ||
buildsrc-summary.dcf | 20-Oct-2023 22:38 | 445 | ||
install-summary.dcf | 20-Oct-2023 22:38 | 281 | ||