Name | Last modified | Size | Description | |
---|---|---|---|---|
Parent Directory | - | |||
install-summary.dcf | 20-Oct-2023 22:38 | 285 | ||
install-out.txt | 20-Oct-2023 22:38 | 1.0K | ||
checksrc-summary.dcf | 20-Oct-2023 22:38 | 476 | ||
checksrc-out.txt | 20-Oct-2023 22:38 | 3.6K | ||
buildsrc-summary.dcf | 20-Oct-2023 22:38 | 452 | ||
buildsrc-out.txt | 20-Oct-2023 22:38 | 1.4K | ||
buildbin-summary.dcf | 20-Oct-2023 22:38 | 578 | ||
buildbin-out.txt | 20-Oct-2023 22:38 | 1.2K | ||