Name | Last modified | Size | Description | |
---|---|---|---|---|
Parent Directory | - | |||
install-out.txt | 20-Oct-2023 22:38 | 1.3K | ||
install-summary.dcf | 20-Oct-2023 22:38 | 275 | ||
buildsrc-out.txt | 20-Oct-2023 22:38 | 868 | ||
buildsrc-summary.dcf | 20-Oct-2023 22:38 | 436 | ||
checksrc-out.txt | 20-Oct-2023 22:38 | 3.4K | ||
checksrc-summary.dcf | 20-Oct-2023 22:38 | 456 | ||
buildbin-out.txt | 20-Oct-2023 22:38 | 1.5K | ||
buildbin-summary.dcf | 20-Oct-2023 22:38 | 549 | ||