Name | Last modified | Size | Description | |
---|---|---|---|---|
Parent Directory | - | |||
buildbin-out.txt | 20-Oct-2023 22:38 | 11K | ||
buildbin-summary.dcf | 20-Oct-2023 22:38 | 522 | ||
buildsrc-out.txt | 20-Oct-2023 22:38 | 841 | ||
buildsrc-summary.dcf | 20-Oct-2023 22:38 | 423 | ||
checksrc-out.txt | 20-Oct-2023 22:38 | 7.8K | ||
checksrc-summary.dcf | 20-Oct-2023 22:38 | 445 | ||
install-out.txt | 20-Oct-2023 22:38 | 8.5K | ||
install-summary.dcf | 20-Oct-2023 22:38 | 267 | ||