Name | Last modified | Size | Description | |
---|---|---|---|---|
Parent Directory | - | |||
install-summary.dcf | 20-Oct-2023 22:38 | 280 | ||
install-out.txt | 20-Oct-2023 22:38 | 27K | ||
checksrc-summary.dcf | 20-Oct-2023 22:38 | 470 | ||
checksrc-out.txt | 20-Oct-2023 22:38 | 5.0K | ||
buildsrc-summary.dcf | 20-Oct-2023 22:38 | 443 | ||
buildsrc-out.txt | 20-Oct-2023 22:38 | 866 | ||
buildbin-summary.dcf | 20-Oct-2023 22:38 | 561 | ||
buildbin-out.txt | 20-Oct-2023 22:38 | 30K | ||