Name | Last modified | Size | Description | |
---|---|---|---|---|
Parent Directory | - | |||
install-summary.dcf | 20-Oct-2023 22:38 | 298 | ||
buildsrc-summary.dcf | 20-Oct-2023 22:38 | 471 | ||
checksrc-summary.dcf | 20-Oct-2023 22:38 | 502 | ||
buildbin-summary.dcf | 20-Oct-2023 22:38 | 618 | ||
buildsrc-out.txt | 20-Oct-2023 22:38 | 937 | ||
install-out.txt | 20-Oct-2023 22:38 | 3.8K | ||
checksrc-out.txt | 20-Oct-2023 22:38 | 4.3K | ||
buildbin-out.txt | 20-Oct-2023 22:38 | 7.8K | ||