Index of /checkResults/3.17/bioc-mac-arm64-LATEST/CopywriteR/raw-results/kjohnson2
Name
Last modified
Size
Description
Parent Directory
-
buildsrc-out.txt
20-Oct-2023 22:38
1.8K
install-out.txt
20-Oct-2023 22:38
1.2K
buildsrc-summary.dcf
20-Oct-2023 22:38
350
install-summary.dcf
20-Oct-2023 22:38
275