Name | Last modified | Size | Description | |
---|---|---|---|---|
Parent Directory | - | |||
buildbin-summary.dcf | 20-Oct-2023 22:38 | 512 | ||
buildbin-out.txt | 20-Oct-2023 22:38 | 1.1K | ||
install-summary.dcf | 20-Oct-2023 22:38 | 263 | ||
install-out.txt | 20-Oct-2023 22:38 | 1.0K | ||
checksrc-summary.dcf | 20-Oct-2023 22:38 | 432 | ||
checksrc-out.txt | 20-Oct-2023 22:38 | 3.2K | ||
buildsrc-summary.dcf | 20-Oct-2023 22:38 | 418 | ||
buildsrc-out.txt | 20-Oct-2023 22:38 | 844 | ||