Name | Last modified | Size | Description | |
---|---|---|---|---|
Parent Directory | - | |||
buildbin-out.txt | 20-Oct-2023 22:38 | 15K | ||
buildbin-summary.dcf | 20-Oct-2023 22:38 | 530 | ||
buildsrc-out.txt | 20-Oct-2023 22:38 | 909 | ||
buildsrc-summary.dcf | 20-Oct-2023 22:38 | 427 | ||
checksrc-out.txt | 20-Oct-2023 22:38 | 6.1K | ||
checksrc-summary.dcf | 20-Oct-2023 22:38 | 450 | ||
install-out.txt | 20-Oct-2023 22:38 | 13K | ||
install-summary.dcf | 20-Oct-2023 22:38 | 269 | ||