Name | Last modified | Size | Description | |
---|---|---|---|---|
Parent Directory | - | |||
install-summary.dcf | 20-Oct-2023 22:38 | 263 | ||
install-out.txt | 20-Oct-2023 22:38 | 21K | ||
checksrc-summary.dcf | 20-Oct-2023 22:38 | 436 | ||
checksrc-out.txt | 20-Oct-2023 22:38 | 7.5K | ||
buildsrc-summary.dcf | 20-Oct-2023 22:38 | 419 | ||
buildsrc-out.txt | 20-Oct-2023 22:38 | 1.4K | ||
buildbin-summary.dcf | 20-Oct-2023 22:38 | 513 | ||
buildbin-out.txt | 20-Oct-2023 22:38 | 23K | ||