Name | Last modified | Size | Description | |
---|---|---|---|---|
Parent Directory | - | |||
buildbin-summary.dcf | 20-Oct-2023 22:37 | 524 | ||
buildbin-out.txt | 20-Oct-2023 22:37 | 1.1K | ||
install-summary.dcf | 20-Oct-2023 22:37 | 267 | ||
install-out.txt | 20-Oct-2023 22:37 | 1.0K | ||
checksrc-summary.dcf | 20-Oct-2023 22:37 | 440 | ||
checksrc-out.txt | 20-Oct-2023 22:37 | 12K | ||
buildsrc-summary.dcf | 20-Oct-2023 22:37 | 424 | ||
buildsrc-out.txt | 20-Oct-2023 22:37 | 875 | ||