Name | Last modified | Size | Description | |
---|---|---|---|---|
Parent Directory | - | |||
install-summary.dcf | 20-Oct-2023 22:37 | 275 | ||
buildsrc-summary.dcf | 20-Oct-2023 22:37 | 437 | ||
checksrc-summary.dcf | 20-Oct-2023 22:37 | 456 | ||
buildbin-summary.dcf | 20-Oct-2023 22:37 | 546 | ||
buildsrc-out.txt | 20-Oct-2023 22:37 | 953 | ||
install-out.txt | 20-Oct-2023 22:37 | 1.8K | ||
buildbin-out.txt | 20-Oct-2023 22:37 | 3.7K | ||
checksrc-out.txt | 20-Oct-2023 22:37 | 3.9K | ||