Name | Last modified | Size | Description | |
---|---|---|---|---|
Parent Directory | - | |||
buildbin-out.txt | 20-Oct-2023 22:37 | 3.7K | ||
buildbin-summary.dcf | 20-Oct-2023 22:37 | 506 | ||
buildsrc-out.txt | 20-Oct-2023 22:37 | 893 | ||
buildsrc-summary.dcf | 20-Oct-2023 22:37 | 415 | ||
checksrc-out.txt | 20-Oct-2023 22:37 | 5.8K | ||
checksrc-summary.dcf | 20-Oct-2023 22:37 | 427 | ||
install-out.txt | 20-Oct-2023 22:37 | 1.7K | ||
install-summary.dcf | 20-Oct-2023 22:37 | 260 | ||