Index of /checkResults/3.17/bioc-mac-arm64-LATEST/BBCAnalyzer/raw-results/kjohnson2

[ICO]NameLast modifiedSizeDescription

[DIR]Parent Directory  -  
[   ]install-summary.dcf20-Oct-2023 22:37 277  
[   ]buildsrc-summary.dcf20-Oct-2023 22:37 440  
[   ]checksrc-summary.dcf20-Oct-2023 22:37 460  
[   ]buildbin-summary.dcf20-Oct-2023 22:37 554  
[TXT]buildsrc-out.txt20-Oct-2023 22:37 864  
[TXT]install-out.txt20-Oct-2023 22:37 1.0K 
[TXT]buildbin-out.txt20-Oct-2023 22:37 1.2K 
[TXT]checksrc-out.txt20-Oct-2023 22:37 8.0K