Name | Last modified | Size | Description | |
---|---|---|---|---|
Parent Directory | - | |||
buildbin-out.txt | 20-Oct-2023 22:37 | 11K | ||
buildbin-summary.dcf | 20-Oct-2023 22:37 | 512 | ||
buildsrc-out.txt | 20-Oct-2023 22:37 | 897 | ||
buildsrc-summary.dcf | 20-Oct-2023 22:37 | 418 | ||
checksrc-out.txt | 20-Oct-2023 22:37 | 3.9K | ||
checksrc-summary.dcf | 20-Oct-2023 22:37 | 432 | ||
install-out.txt | 20-Oct-2023 22:37 | 8.7K | ||
install-summary.dcf | 20-Oct-2023 22:37 | 262 | ||