Index of /checkResults/3.17/bioc-mac-arm64-LATEST/AnnotationHubData/raw-results
Name
Last modified
Size
Description
Parent Directory
-
kjohnson2/
20-Oct-2023 22:37
-
info.dcf
20-Oct-2023 22:37
317