Name | Last modified | Size | Description | |
---|---|---|---|---|
Parent Directory | - | |||
install-summary.dcf | 20-Oct-2023 22:37 | 274 | ||
buildsrc-out.txt | 20-Oct-2023 22:37 | 1.1K | ||
buildsrc-summary.dcf | 20-Oct-2023 22:37 | 434 | ||
checksrc-out.txt | 20-Oct-2023 22:37 | 3.9K | ||
checksrc-summary.dcf | 20-Oct-2023 22:37 | 453 | ||
install-out.txt | 20-Oct-2023 22:37 | 1.0K | ||
buildbin-out.txt | 20-Oct-2023 22:37 | 1.2K | ||
buildbin-summary.dcf | 20-Oct-2023 22:37 | 543 | ||