Index of /checkResults/3.17/bioc-mac-arm64-LATEST/ASpediaFI/raw-results/kjohnson2
Name
Last modified
Size
Description
Parent Directory
-
install-out.txt
20-Oct-2023 22:37
696
install-summary.dcf
20-Oct-2023 22:37
275
buildsrc-out.txt
20-Oct-2023 22:37
896
buildsrc-summary.dcf
20-Oct-2023 22:37
346