Name | Last modified | Size | Description | |
---|---|---|---|---|
Parent Directory | - | |||
install-summary.dcf | 20-Oct-2023 22:37 | 261 | ||
install-out.txt | 20-Oct-2023 22:37 | 1.0K | ||
checksrc-summary.dcf | 20-Oct-2023 22:37 | 428 | ||
checksrc-out.txt | 20-Oct-2023 22:37 | 3.8K | ||
buildsrc-summary.dcf | 20-Oct-2023 22:37 | 415 | ||
buildsrc-out.txt | 20-Oct-2023 22:37 | 800 | ||
buildbin-summary.dcf | 20-Oct-2023 22:37 | 506 | ||
buildbin-out.txt | 20-Oct-2023 22:37 | 1.2K | ||