Name | Last modified | Size | Description | |
---|---|---|---|---|
Parent Directory | - | |||
checksrc-out.txt | 17-Oct-2023 00:37 | 29K | ||
buildbin-out.txt | 17-Oct-2023 00:37 | 1.6K | ||
install-out.txt | 17-Oct-2023 00:37 | 1.4K | ||
buildsrc-out.txt | 17-Oct-2023 00:37 | 890 | ||
buildbin-summary.dcf | 17-Oct-2023 00:37 | 546 | ||
checksrc-summary.dcf | 17-Oct-2023 00:37 | 454 | ||
buildsrc-summary.dcf | 17-Oct-2023 00:37 | 435 | ||
install-summary.dcf | 17-Oct-2023 00:37 | 275 | ||