![]() | Name | Last modified | Size | Description |
---|---|---|---|---|
![]() | Parent Directory | - | ||
![]() | buildbin-out.txt | 10-Jun-2023 00:06 | 1.9K | |
![]() | buildbin-summary.dcf | 10-Jun-2023 00:06 | 490 | |
![]() | buildsrc-out.txt | 10-Jun-2023 00:06 | 911 | |
![]() | buildsrc-summary.dcf | 10-Jun-2023 00:06 | 436 | |
![]() | checksrc-out.txt | 10-Jun-2023 00:06 | 4.0K | |
![]() | checksrc-summary.dcf | 10-Jun-2023 00:06 | 430 | |
![]() | install-out.txt | 10-Jun-2023 00:06 | 1.8K | |
![]() | install-summary.dcf | 10-Jun-2023 00:06 | 260 | |