Index of /checkResults/3.17/bioc-LATEST/vsn/raw-results/merida1

[ICO]NameLast modifiedSizeDescription

[DIR]Parent Directory  -  
[   ]install-summary.dcf24-Sep-2023 00:37 261  
[TXT]install-out.txt24-Sep-2023 00:37 2.1K 
[   ]checksrc-summary.dcf24-Sep-2023 00:37 428  
[TXT]checksrc-out.txt24-Sep-2023 00:37 3.7K 
[   ]buildsrc-summary.dcf24-Sep-2023 00:37 416  
[TXT]buildsrc-out.txt24-Sep-2023 00:37 893  
[   ]buildbin-summary.dcf23-Sep-2023 00:37 506  
[TXT]buildbin-out.txt23-Sep-2023 00:37 3.8K