Index of /checkResults/3.17/bioc-LATEST/vsn/raw-results

[ICO]NameLast modifiedSizeDescription

[DIR]Parent Directory  -  
[DIR]palomino3/10-Jun-2023 00:06 -  
[DIR]nebbiolo1/10-Jun-2023 00:05 -  
[DIR]merida1/10-Jun-2023 00:07 -  
[   ]info.dcf10-Jun-2023 00:07 268