Name | Last modified | Size | Description | |
---|---|---|---|---|
Parent Directory | - | |||
buildbin-out.txt | 17-Oct-2023 00:37 | 11K | ||
buildbin-summary.dcf | 17-Oct-2023 00:37 | 573 | ||
buildsrc-out.txt | 17-Oct-2023 00:37 | 937 | ||
buildsrc-summary.dcf | 17-Oct-2023 00:37 | 449 | ||
checksrc-out.txt | 17-Oct-2023 00:37 | 4.3K | ||
checksrc-summary.dcf | 17-Oct-2023 00:37 | 472 | ||
install-out.txt | 17-Oct-2023 00:37 | 8.5K | ||
install-summary.dcf | 17-Oct-2023 00:37 | 284 | ||