Name | Last modified | Size | Description | |
---|---|---|---|---|
Parent Directory | - | |||
checksrc-out.txt | 17-Oct-2023 00:36 | 4.5K | ||
buildbin-out.txt | 17-Oct-2023 00:36 | 4.2K | ||
install-out.txt | 17-Oct-2023 00:36 | 4.0K | ||
buildsrc-out.txt | 17-Oct-2023 00:36 | 941 | ||
buildbin-summary.dcf | 17-Oct-2023 00:36 | 524 | ||
buildsrc-summary.dcf | 17-Oct-2023 00:36 | 461 | ||
checksrc-summary.dcf | 17-Oct-2023 00:36 | 460 | ||
install-summary.dcf | 17-Oct-2023 00:36 | 272 | ||