Index of /checkResults/3.17/bioc-LATEST/topdownr/raw-results

[ICO]NameLast modifiedSizeDescription

[DIR]Parent Directory  -  
[   ]info.dcf01-Oct-2023 00:37 276  
[DIR]merida1/01-Oct-2023 00:37 -  
[DIR]nebbiolo1/01-Oct-2023 00:35 -  
[DIR]palomino3/01-Oct-2023 00:36 -