Name | Last modified | Size | Description | |
---|---|---|---|---|
Parent Directory | - | |||
buildbin-out.txt | 17-Oct-2023 00:36 | 1.1K | ||
buildbin-summary.dcf | 17-Oct-2023 00:36 | 509 | ||
buildsrc-out.txt | 17-Oct-2023 00:36 | 894 | ||
buildsrc-summary.dcf | 17-Oct-2023 00:36 | 448 | ||
checksrc-out.txt | 17-Oct-2023 00:36 | 3.5K | ||
checksrc-summary.dcf | 17-Oct-2023 00:36 | 443 | ||
install-out.txt | 17-Oct-2023 00:36 | 959 | ||
install-summary.dcf | 17-Oct-2023 00:36 | 266 | ||