Name | Last modified | Size | Description | |
---|---|---|---|---|
Parent Directory | - | |||
install-out.txt | 17-Oct-2023 00:37 | 2.0K | ||
install-summary.dcf | 17-Oct-2023 00:37 | 277 | ||
buildsrc-summary.dcf | 17-Oct-2023 00:37 | 439 | ||
buildsrc-out.txt | 17-Oct-2023 00:37 | 925 | ||
checksrc-out.txt | 17-Oct-2023 00:37 | 7.8K | ||
checksrc-summary.dcf | 17-Oct-2023 00:37 | 460 | ||
buildbin-out.txt | 17-Oct-2023 00:37 | 3.9K | ||
buildbin-summary.dcf | 17-Oct-2023 00:37 | 554 | ||