Index of /checkResults/3.17/bioc-LATEST/tigre/raw-results
Name
Last modified
Size
Description
Parent Directory
-
info.dcf
22-Mar-2023 00:07
267
merida1/
22-Mar-2023 00:07
-
nebbiolo1/
22-Mar-2023 00:05
-
palomino3/
22-Mar-2023 00:06
-