Name | Last modified | Size | Description | |
---|---|---|---|---|
Parent Directory | - | |||
buildbin-out.txt | 17-Oct-2023 00:37 | 1.4K | ||
buildbin-summary.dcf | 17-Oct-2023 00:37 | 630 | ||
buildsrc-out.txt | 17-Oct-2023 00:37 | 921 | ||
buildsrc-summary.dcf | 17-Oct-2023 00:37 | 479 | ||
checksrc-out.txt | 17-Oct-2023 00:37 | 5.9K | ||
checksrc-summary.dcf | 17-Oct-2023 00:37 | 518 | ||
install-out.txt | 17-Oct-2023 00:37 | 1.1K | ||
install-summary.dcf | 17-Oct-2023 00:37 | 303 | ||