Name | Last modified | Size | Description | |
---|---|---|---|---|
Parent Directory | - | |||
checksrc-out.txt | 17-Oct-2023 00:36 | 3.8K | ||
buildbin-out.txt | 17-Oct-2023 00:36 | 1.3K | ||
install-out.txt | 17-Oct-2023 00:36 | 1.1K | ||
buildsrc-out.txt | 17-Oct-2023 00:36 | 966 | ||
buildbin-summary.dcf | 17-Oct-2023 00:36 | 554 | ||
buildsrc-summary.dcf | 17-Oct-2023 00:36 | 479 | ||
checksrc-summary.dcf | 17-Oct-2023 00:36 | 473 | ||
install-summary.dcf | 17-Oct-2023 00:36 | 281 | ||